BEGIN:VCALENDAR
VERSION:2.0
PRODID:-//wp-events-plugin.com//7.2.3.1//EN
BEGIN:VEVENT
UID:53@shopdowntowneaston.com
DTSTART;TZID=America/New_York:20251012T000000
DTEND;TZID=America/New_York:20251018T000000
DTSTAMP:20250805T134230Z
URL:https://www.shopdowntowneaston.com/events/fall-book-sale-2025-10-12/
SUMMARY:Fall Book Sale
DESCRIPTION:Don't miss our Fall Book Sale!\n\nPREVIEW SALE FOR FRIENDS OF
 THE LIBRARY\nWednesday\, October 8\, 4:00 - 7:00pm\nBecome a Friend –
 Applications are available at the Main Library\, Palmer Branch\, and online
 at www.eastonpl.org or pay a $10 admission fee.\nThursday\, October 9  -
 3:00 - 7:00 pm\nFriday\, October 10 - 10:00am - 2:00pm\nSaturday\, October
 11 - 10:00 - 2:00pm  (1/2 price day)\nMonday\, October 13 - 2:00 - 6:00pm
 ($5 bag day)\nGently Used\, Donated Books - CDs - DVDs - Audiobooks\nOlder
 Books of Special and Local Interest\nLike New Fiction and Non-Fiction\nCASH
 AND CHECK ONLY. NO ATM AVAILABLE AT THE LIBRARY.\n\nFor more information\,
 call the Library at 610-258-2917\, ext. 312 or email at
 angelar@eastonpl.org\n\nEaston Area Public Library – Friends Room\nUse
 the 5th St. entrance on the lower level
CATEGORIES:Arts &amp; Culture
LOCATION:Easton Area Public Library\, 515 Church St\, Easton\, PA\, 18042\,
 United States
X-APPLE-STRUCTURED-LOCATION;VALUE=URI;X-ADDRESS=515 Church St\, Easton\,
 PA\, 18042\, United States;X-APPLE-RADIUS=100;X-TITLE=Easton Area Public
 Library:geo:0,0
END:VEVENT
BEGIN:VTIMEZONE
TZID:America/New_York
X-LIC-LOCATION:America/New_York
BEGIN:DAYLIGHT
DTSTART:20250309T030000
TZOFFSETFROM:-0500
TZOFFSETTO:-0400
TZNAME:EDT
END:DAYLIGHT
END:VTIMEZONE
END:VCALENDAR